BEGIN:VCALENDAR
VERSION:2.0
PRODID:-//Sustainability Website - ECPv6.15.20//NONSGML v1.0//EN
CALSCALE:GREGORIAN
METHOD:PUBLISH
X-ORIGINAL-URL:https://sustain.venturacounty.gov
X-WR-CALDESC:Events for Sustainability Website
REFRESH-INTERVAL;VALUE=DURATION:PT1H
X-Robots-Tag:noindex
X-PUBLISHED-TTL:PT1H
BEGIN:VTIMEZONE
TZID:America/Los_Angeles
BEGIN:DAYLIGHT
TZOFFSETFROM:-0800
TZOFFSETTO:-0700
TZNAME:PDT
DTSTART:20250309T100000
END:DAYLIGHT
BEGIN:STANDARD
TZOFFSETFROM:-0700
TZOFFSETTO:-0800
TZNAME:PST
DTSTART:20251102T090000
END:STANDARD
BEGIN:DAYLIGHT
TZOFFSETFROM:-0800
TZOFFSETTO:-0700
TZNAME:PDT
DTSTART:20260308T100000
END:DAYLIGHT
BEGIN:STANDARD
TZOFFSETFROM:-0700
TZOFFSETTO:-0800
TZNAME:PST
DTSTART:20261101T090000
END:STANDARD
BEGIN:DAYLIGHT
TZOFFSETFROM:-0800
TZOFFSETTO:-0700
TZNAME:PDT
DTSTART:20270314T100000
END:DAYLIGHT
BEGIN:STANDARD
TZOFFSETFROM:-0700
TZOFFSETTO:-0800
TZNAME:PST
DTSTART:20271107T090000
END:STANDARD
END:VTIMEZONE
BEGIN:VEVENT
DTSTART;TZID=America/Los_Angeles:20260514T120000
DTEND;TZID=America/Los_Angeles:20260514T140000
DTSTAMP:20260422T072644
CREATED:20260401T202039Z
LAST-MODIFIED:20260401T202039Z
UID:4875-1778760000-1778767200@sustain.venturacounty.gov
SUMMARY:Fire Resistant Homes: Smart Building Strategies for Risk Reduction and Energy Efficiency
DESCRIPTION:Register \nEvent Description \nWildfires are reshaping how Californians think about housing safety and resilience. In 2025\, two legal documents related to fire risk and real estate were updated\, DRE’s required Transfer Disclosure Statement requirements and CA’s T24 building code. Agents and appraisers will gain comprehension about fire resistant features and risk reduction strategies. \nWe’re seeing increasing evidence that features common to efficient\, higher performance homes are intrinsically fire resistant. Air tightness\, durable\, non-combustible roofs and cladding\, simple architectural forms\, no vents\, high performance windows… are recognized as contributing factors to homes that have survived fires as well as preventing smoke intrusion. Prevention of fires also helps prevent the air pollution and related emissions that impact human health. \nWe’ll explore features commonly installed to reduce risk of ignition as well as new innovations in materials and systems. We’ll look at examples of homes that survived fires and why\, plus some impressive completed rebuilds. \nLearning Objectives \nBy the end of the course\, participants will be able to: \n\nIdentify fire-resistant features\nUnderstand how common efficiency and performance measures increase fire resistance\nRecognize and discuss with clients the multiple health\, safety\, efficiency\, and resilience benefits of science-based principles such as air tightness and insulation\nApply this knowledge to home design and construction details and real estate decision-making\n\nLearning Units \n\nAIA LUs will apply for this course\n\nInstructors \nDebra Little\, AjO \nCourse Location \nZoom link provided upon registration
URL:https://sustain.venturacounty.gov/event/fire-resistant-homes-smart-building-strategies-for-risk-reduction-and-energy-efficiency/
END:VEVENT
END:VCALENDAR