BEGIN:VCALENDAR
VERSION:2.0
PRODID:-//Sustainability Website - ECPv6.15.20//NONSGML v1.0//EN
CALSCALE:GREGORIAN
METHOD:PUBLISH
X-WR-CALNAME:Sustainability Website
X-ORIGINAL-URL:https://sustain.venturacounty.gov
X-WR-CALDESC:Events for Sustainability Website
REFRESH-INTERVAL;VALUE=DURATION:PT1H
X-Robots-Tag:noindex
X-PUBLISHED-TTL:PT1H
BEGIN:VTIMEZONE
TZID:America/Los_Angeles
BEGIN:DAYLIGHT
TZOFFSETFROM:-0800
TZOFFSETTO:-0700
TZNAME:PDT
DTSTART:20250309T100000
END:DAYLIGHT
BEGIN:STANDARD
TZOFFSETFROM:-0700
TZOFFSETTO:-0800
TZNAME:PST
DTSTART:20251102T090000
END:STANDARD
BEGIN:DAYLIGHT
TZOFFSETFROM:-0800
TZOFFSETTO:-0700
TZNAME:PDT
DTSTART:20260308T100000
END:DAYLIGHT
BEGIN:STANDARD
TZOFFSETFROM:-0700
TZOFFSETTO:-0800
TZNAME:PST
DTSTART:20261101T090000
END:STANDARD
BEGIN:DAYLIGHT
TZOFFSETFROM:-0800
TZOFFSETTO:-0700
TZNAME:PDT
DTSTART:20270314T100000
END:DAYLIGHT
BEGIN:STANDARD
TZOFFSETFROM:-0700
TZOFFSETTO:-0800
TZNAME:PST
DTSTART:20271107T090000
END:STANDARD
END:VTIMEZONE
BEGIN:VEVENT
DTSTART;TZID=America/Los_Angeles:20260526T093000
DTEND;TZID=America/Los_Angeles:20260526T110000
DTSTAMP:20260420T065321
CREATED:20260401T202039Z
LAST-MODIFIED:20260401T202039Z
UID:4876-1779787800-1779793200@sustain.venturacounty.gov
SUMMARY:Builder’s Perspective: Insulation and Air Sealing
DESCRIPTION:Register \nEvent Description \nInsulation and air sealing are critical aspects of construction\, contributing to improved energy performance\, reduced operating costs\, greater indoor air quality and resiliency during a wildfire emergency. Insulation and air sealing can also contribute to increased construction costs and challenges for building sign-off if not managed effectively. In this course\, we’ll hear the builder’s perspective for sequencing the work\, selecting materials\, training teams on site and getting the results you want. \nLearning Objectives \n\nTalk through options for insulation and air and vapor barriers and best practices for selecting and installing each\nReview the potential negative consequences of thermal bridging in walls and roofs and discuss assemblies that avoid those outcomes\nLearn the application and benefits of rain screens in the central coast climate and different techniques and materials for a rain screen assembly\nLearn big and little spaces that are problem-areas in air sealing and how to use catch them early in construction\n\nLearning Units \n\n1.0 AIA LU pending for this course\n1.0 ZNCD CEU approved for this course\n\nInstructors \nJennifer Rennick\, In Balance Green Consulting \nMike Horgan\, Cairn Collaborative Design Build \nCourse Location  \nZoom link provided upon registration
URL:https://sustain.venturacounty.gov/event/builders-perspective-insulation-and-air-sealing/
END:VEVENT
END:VCALENDAR