BEGIN:VCALENDAR
VERSION:2.0
PRODID:-//Sustainability Website - ECPv6.15.20//NONSGML v1.0//EN
CALSCALE:GREGORIAN
METHOD:PUBLISH
X-ORIGINAL-URL:https://sustain.venturacounty.gov
X-WR-CALDESC:Events for Sustainability Website
REFRESH-INTERVAL;VALUE=DURATION:PT1H
X-Robots-Tag:noindex
X-PUBLISHED-TTL:PT1H
BEGIN:VTIMEZONE
TZID:America/Los_Angeles
BEGIN:DAYLIGHT
TZOFFSETFROM:-0800
TZOFFSETTO:-0700
TZNAME:PDT
DTSTART:20250309T100000
END:DAYLIGHT
BEGIN:STANDARD
TZOFFSETFROM:-0700
TZOFFSETTO:-0800
TZNAME:PST
DTSTART:20251102T090000
END:STANDARD
BEGIN:DAYLIGHT
TZOFFSETFROM:-0800
TZOFFSETTO:-0700
TZNAME:PDT
DTSTART:20260308T100000
END:DAYLIGHT
BEGIN:STANDARD
TZOFFSETFROM:-0700
TZOFFSETTO:-0800
TZNAME:PST
DTSTART:20261101T090000
END:STANDARD
BEGIN:DAYLIGHT
TZOFFSETFROM:-0800
TZOFFSETTO:-0700
TZNAME:PDT
DTSTART:20270314T100000
END:DAYLIGHT
BEGIN:STANDARD
TZOFFSETFROM:-0700
TZOFFSETTO:-0800
TZNAME:PST
DTSTART:20271107T090000
END:STANDARD
END:VTIMEZONE
BEGIN:VEVENT
DTSTART;TZID=America/Los_Angeles:20260527T120000
DTEND;TZID=America/Los_Angeles:20260527T130000
DTSTAMP:20260424T053453
CREATED:20260401T202040Z
LAST-MODIFIED:20260401T202040Z
UID:4877-1779883200-1779886800@sustain.venturacounty.gov
SUMMARY:Home Improvements for a Healthier\, Resilient\, and Clean-Energy Future
DESCRIPTION:Register \nEvent Description \nOverview of a new one-page guide for homeowners. With the premise that most home improvement projects have the potential to improve or harm performance\, it’s helpful to be informed of basic building science principles. The class will spotlight the benefits many homeowners look to achieve\, a recommended order of steps to take\, and building details in a range of improvements. Homeowners can meet their goals and enjoy their benefits while reducing emissions. \nThe guide was created to serve two purposes: \n1. To inform homeowners in the early process of planning improvements to existing homes. To provide a descriptive path to increasing performance while reducing emissions\, mindful of the whole-house approach. While not exhaustive\, the intent is to raise awareness of the complete A-Z considerations in a short take-away info sheet. Much of the public messaging in recent years has focused on electrification but has left out the foundational principles of high-performance enclosures\, which are so essential to optimal outcomes. \n2. In response to a question\, I’ve often heard expressed\, “I’m concerned about climate change\, but what can I do as an individual?” The guide illustrates ways we can reduce emissions within our households. Our climate actions can start with our own homes! \nThere are two versions of the guide with the subtitles tailored to each purpose. The one-page\, two-sided guide in hard copy will also be accessible online with live links to resources. In addition to homeowners\, the guide is useful as an educational tool for contractors\, programs and outreach organizations\, building departments\, and Realtors. \nLearning Objectives \n• Attendees will be equipped with a handy one-page guide designed for homeowners. The guide is also useful to contractors and others as an educational tool to share with their customers.\n• Attendees will comprehend the myriad benefits to both house and occupants of higher performance homes. We’ll address the topic of increased market value\, not often delineated from a professional standpoint.\n• Attendees will be cognizant of a recommended\, science-informed\, step-by-step process of implementation that typically makes the most practical and cost-effective sense\, while also encouraged to tailor their choices to personal priorities.\n• Attendees will be aware of the fundamental elements of a highly efficient enclosure\, what switching to all-electric mechanical systems looks like\, and how to attain low to zero greenhouse gas emissions with solar plus batteries. \nLearning Units  \nN/A \nInstructors \nDebra Little\, AjO \nCourse Location \nZoom link provided upon registration.
URL:https://sustain.venturacounty.gov/event/home-improvements-for-a-healthier-resilient-and-clean-energy-future/
END:VEVENT
END:VCALENDAR