BEGIN:VCALENDAR
VERSION:2.0
PRODID:-//Sustainability Website - ECPv6.15.20//NONSGML v1.0//EN
CALSCALE:GREGORIAN
METHOD:PUBLISH
X-WR-CALNAME:Sustainability Website
X-ORIGINAL-URL:https://sustain.venturacounty.gov
X-WR-CALDESC:Events for Sustainability Website
REFRESH-INTERVAL;VALUE=DURATION:PT1H
X-Robots-Tag:noindex
X-PUBLISHED-TTL:PT1H
BEGIN:VTIMEZONE
TZID:America/Los_Angeles
BEGIN:DAYLIGHT
TZOFFSETFROM:-0800
TZOFFSETTO:-0700
TZNAME:PDT
DTSTART:20250309T100000
END:DAYLIGHT
BEGIN:STANDARD
TZOFFSETFROM:-0700
TZOFFSETTO:-0800
TZNAME:PST
DTSTART:20251102T090000
END:STANDARD
BEGIN:DAYLIGHT
TZOFFSETFROM:-0800
TZOFFSETTO:-0700
TZNAME:PDT
DTSTART:20260308T100000
END:DAYLIGHT
BEGIN:STANDARD
TZOFFSETFROM:-0700
TZOFFSETTO:-0800
TZNAME:PST
DTSTART:20261101T090000
END:STANDARD
BEGIN:DAYLIGHT
TZOFFSETFROM:-0800
TZOFFSETTO:-0700
TZNAME:PDT
DTSTART:20270314T100000
END:DAYLIGHT
BEGIN:STANDARD
TZOFFSETFROM:-0700
TZOFFSETTO:-0800
TZNAME:PST
DTSTART:20271107T090000
END:STANDARD
END:VTIMEZONE
BEGIN:VEVENT
DTSTART;TZID=America/Los_Angeles:20260609T093000
DTEND;TZID=America/Los_Angeles:20260609T110000
DTSTAMP:20260420T102243
CREATED:20260401T202053Z
LAST-MODIFIED:20260401T202053Z
UID:4880-1780997400-1781002800@sustain.venturacounty.gov
SUMMARY:Reducing Carbon Emissions from MEP Systems
DESCRIPTION:Register \nEvent Description \nAs we move to reduce carbon emissions from our buildings and align with California carbon-reduction goals\, we often overlook the impacts\, and opportunities\, in mechanical\, electrical and plumbing (MEP) systems beyond upfront energy efficiency. Emerging data\, however\, is giving us a fuller picture of how MEP design\, system specifications and refrigerants contribute to emissions and how alternative design strategies can reduce those impacts. This course highlights the issues for designers\, owners and engineers and proposes opportunities and solutions for residential and non-residential construction. \nLearning Units \n\n1 AIA HSW LU pending for this course\n0.1 ICC LU pending for this course\n1 ZNCD LU approved for this course\n\nInstructor \nJennifer Rennick\, In Balance Green Consulting \nCourse Location  \nZoom link provided upon registration
URL:https://sustain.venturacounty.gov/event/reducing-carbon-emissions-from-mep-systems/
END:VEVENT
END:VCALENDAR