BEGIN:VCALENDAR
VERSION:2.0
PRODID:-//Sustainability Website - ECPv6.15.20//NONSGML v1.0//EN
CALSCALE:GREGORIAN
METHOD:PUBLISH
X-WR-CALNAME:Sustainability Website
X-ORIGINAL-URL:https://sustain.venturacounty.gov
X-WR-CALDESC:Events for Sustainability Website
REFRESH-INTERVAL;VALUE=DURATION:PT1H
X-Robots-Tag:noindex
X-PUBLISHED-TTL:PT1H
BEGIN:VTIMEZONE
TZID:America/Los_Angeles
BEGIN:DAYLIGHT
TZOFFSETFROM:-0800
TZOFFSETTO:-0700
TZNAME:PDT
DTSTART:20250309T100000
END:DAYLIGHT
BEGIN:STANDARD
TZOFFSETFROM:-0700
TZOFFSETTO:-0800
TZNAME:PST
DTSTART:20251102T090000
END:STANDARD
BEGIN:DAYLIGHT
TZOFFSETFROM:-0800
TZOFFSETTO:-0700
TZNAME:PDT
DTSTART:20260308T100000
END:DAYLIGHT
BEGIN:STANDARD
TZOFFSETFROM:-0700
TZOFFSETTO:-0800
TZNAME:PST
DTSTART:20261101T090000
END:STANDARD
BEGIN:DAYLIGHT
TZOFFSETFROM:-0800
TZOFFSETTO:-0700
TZNAME:PDT
DTSTART:20270314T100000
END:DAYLIGHT
BEGIN:STANDARD
TZOFFSETFROM:-0700
TZOFFSETTO:-0800
TZNAME:PST
DTSTART:20271107T090000
END:STANDARD
END:VTIMEZONE
BEGIN:VEVENT
DTSTART;TZID=America/Los_Angeles:20260616T100000
DTEND;TZID=America/Los_Angeles:20260616T113000
DTSTAMP:20260420T122037
CREATED:20260401T202053Z
LAST-MODIFIED:20260401T202053Z
UID:4882-1781604000-1781609400@sustain.venturacounty.gov
SUMMARY:Natural Insulation for Low Carbon Builds
DESCRIPTION:Register \nEvent Description \nNatural Insulation has many benefits for builders and occupants but not everyone is familiar with these products. Discover how natural insulation products can be the perfect solution for you. Our natural insulation training is perfect for architects\, builders\, and anyone interested in sustainable solutions. Eric Fenno will explain the latest in natural insulation\, share real-world examples\, and give practical tips on how to use these eco-friendly materials to save energy and create healthier spaces. \nLearning Objectives  \nAs a result of attending the trainings\, participants will be able to:\n· Articulate the benefits of using natural insulation in a single-family or multi-family project.\n· Distinguish the benefits of using cork or wool insulation.\n· Identify the best situations for using these products and other natural products in a build. \nLearning Units \n\n1.0 AIA LUs applied for this course\n\nInstructors \nEric Fenno – Small Planet Supply \nCourse Location \nZoom link provided upon registration.
URL:https://sustain.venturacounty.gov/event/natural-insulation-for-low-carbon-builds/
END:VEVENT
END:VCALENDAR