BEGIN:VCALENDAR
VERSION:2.0
PRODID:-//Sustainability Website - ECPv6.15.20//NONSGML v1.0//EN
CALSCALE:GREGORIAN
METHOD:PUBLISH
X-WR-CALNAME:Sustainability Website
X-ORIGINAL-URL:https://sustain.venturacounty.gov
X-WR-CALDESC:Events for Sustainability Website
REFRESH-INTERVAL;VALUE=DURATION:PT1H
X-Robots-Tag:noindex
X-PUBLISHED-TTL:PT1H
BEGIN:VTIMEZONE
TZID:America/Los_Angeles
BEGIN:DAYLIGHT
TZOFFSETFROM:-0800
TZOFFSETTO:-0700
TZNAME:PDT
DTSTART:20230312T100000
END:DAYLIGHT
BEGIN:STANDARD
TZOFFSETFROM:-0700
TZOFFSETTO:-0800
TZNAME:PST
DTSTART:20231105T090000
END:STANDARD
BEGIN:DAYLIGHT
TZOFFSETFROM:-0800
TZOFFSETTO:-0700
TZNAME:PDT
DTSTART:20240310T100000
END:DAYLIGHT
BEGIN:STANDARD
TZOFFSETFROM:-0700
TZOFFSETTO:-0800
TZNAME:PST
DTSTART:20241103T090000
END:STANDARD
BEGIN:DAYLIGHT
TZOFFSETFROM:-0800
TZOFFSETTO:-0700
TZNAME:PDT
DTSTART:20250309T100000
END:DAYLIGHT
BEGIN:STANDARD
TZOFFSETFROM:-0700
TZOFFSETTO:-0800
TZNAME:PST
DTSTART:20251102T090000
END:STANDARD
END:VTIMEZONE
BEGIN:VEVENT
DTSTART;TZID=America/Los_Angeles:20240227T090000
DTEND;TZID=America/Los_Angeles:20240227T103000
DTSTAMP:20260424T034836
CREATED:20240128T044309Z
LAST-MODIFIED:20240227T061341Z
UID:2162-1709024400-1709029800@sustain.venturacounty.gov
SUMMARY:Residential Load Calculation and Duct Design for Building Departments
DESCRIPTION:Register  \nProper residential HVAC design has been required by code for many years\, but has been poorly enforced.  With the new emphasis on heat pumps\, proper design is more important than ever.  This class will help building departments understand what to ask for and how to check residential HVAC designs to make sure that they meet the code requirements. \nLearning Objectives: \n\nUnderstand what codes require residential HVAC design.\nUnderstand what ACCA is and why their design manuals are so important.\nUnderstand the importance and benefits of good HVAC design.\nUnderstand what to require in a submittal package.\nUnderstand how to check the design and calculations to ensure compliance with code.\n\nInstructor: Russ King\, Coded Energy Inc.
URL:https://sustain.venturacounty.gov/event/residential-load-calculation-and-duct-design-for-building-departments/
CATEGORIES:ECC
END:VEVENT
END:VCALENDAR